BEGIN:VCALENDAR
VERSION:2.0
PRODID:-//Tukios.com/
BEGIN:VEVENT
UID:99e39601-4ed8-47b0-8694-4b6464219c05@www.walkersanderson.com
DTSTAMP:20260424T010039Z
DTSTART:20260502T180000Z
DTEND:20260502T190000Z
SUMMARY:Funeral Service
DESCRIPTION:
URL:https://www.walkersanderson.com/obituaries/alan-osmond
LOCATION: 95 North 600 West  Orem UT 84057
GEO:40.2988647;-111.710236
END:VEVENT
END:VCALENDAR