BEGIN:VCALENDAR
VERSION:2.0
PRODID:-//Tukios.com/
BEGIN:VEVENT
UID:17f4e869-e6c0-4602-9767-1bee18c18696@www.walkersanderson.com
DTSTAMP:20260424T005522Z
DTSTART:20260502T160000Z
DTEND:20260502T173000Z
SUMMARY:Viewing
DESCRIPTION:
URL:https://www.walkersanderson.com/obituaries/alan-osmond
LOCATION: 95 North 600 West  Orem UT 84057
GEO:40.2988647;-111.710236
END:VEVENT
END:VCALENDAR