BEGIN:VCALENDAR
VERSION:2.0
PRODID:-//Tukios.com/
BEGIN:VEVENT
UID:16efc41c-94df-43b2-876f-2be93ea24af3@www.walkersanderson.com
DTSTAMP:20260423T011828Z
DTSTART:20260424T170000Z
DTEND:20260424T180000Z
SUMMARY:Graveside Ceremony
DESCRIPTION:
URL:https://www.walkersanderson.com/obituaries/brian-spotts
LOCATION:Evergreen Cemetery 1997 South 400 East  Springville UT 84663
GEO:40.1408159;-111.6042155
END:VEVENT
END:VCALENDAR