BEGIN:VCALENDAR
VERSION:2.0
PRODID:-//Tukios.com/
BEGIN:VEVENT
UID:0706f282-cbf7-4c07-acf0-7281d327a3d4@www.walkersanderson.com
DTSTAMP:20260423T011954Z
DTSTART:20260424T170000Z
DTEND:20260424T180000Z
SUMMARY:Burial at Cemetery
DESCRIPTION:
URL:https://www.walkersanderson.com/obituaries/brian-spotts
LOCATION:Evergreen Cemetery 1997 South 400 East  Springville UT 84663
GEO:40.1408159;-111.6042155
END:VEVENT
END:VCALENDAR