BEGIN:VCALENDAR
VERSION:2.0
PRODID:-//Tukios.com/
BEGIN:VEVENT
UID:33e2d5f1-1850-49eb-853f-24e3b1fb5400@www.walkersanderson.com
DTSTAMP:20260424T025020Z
DTSTART:20260425T163000Z
DTEND:20260425T173000Z
SUMMARY:Memorial Service
DESCRIPTION:
URL:https://www.walkersanderson.com/obituaries/carol-wilson
LOCATION: 888 S Freedom Blvd  Provo UT 84601
GEO:40.2223596;-111.6628833
END:VEVENT
END:VCALENDAR