BEGIN:VCALENDAR
VERSION:2.0
PRODID:-//Tukios.com/
BEGIN:VEVENT
UID:8e559623-858b-4209-b46c-f547425c6d46@www.walkersanderson.com
DTSTAMP:20260421T204638Z
DTSTART:20260427T003000Z
DTEND:20260427T023000Z
SUMMARY:Viewing
DESCRIPTION:
URL:https://www.walkersanderson.com/obituaries/connie-hodson
LOCATION: 430 South 700 East  Orem UT 84097
GEO:40.2888174;-111.6781365
END:VEVENT
END:VCALENDAR