BEGIN:VCALENDAR
VERSION:2.0
PRODID:-//Tukios.com/
BEGIN:VEVENT
UID:9b4cabdd-7b73-4c02-aa79-171785a7771d@www.walkersanderson.com
DTSTAMP:20260423T101818Z
DTSTART:20260502T163000Z
DTEND:20260502T173000Z
SUMMARY:Memorial Service
DESCRIPTION:
URL:https://www.walkersanderson.com/obituaries/george-mckee
LOCATION:The Church of Jesus Christ of Latter Days Saints 168 East 
	Wayside Drive  Saratoga Springs UT 84045
GEO:40.2960369;-111.8777606
END:VEVENT
END:VCALENDAR