BEGIN:VCALENDAR
VERSION:2.0
PRODID:-//Tukios.com/
BEGIN:VEVENT
UID:ac579e86-311b-4852-aeea-585464c1eba6@www.walkersanderson.com
DTSTAMP:20260421T204705Z
DTSTART:20260427T000000Z
DTEND:20260427T020000Z
SUMMARY:Visitation
DESCRIPTION:
URL:https://www.walkersanderson.com/obituaries/rex-giles
LOCATION:Lakeside 7th Ward 2225 West 620 North  Provo UT 84601
GEO:40.2422786;-111.6976411
END:VEVENT
END:VCALENDAR