BEGIN:VCALENDAR
VERSION:2.0
PRODID:-//Tukios.com/
BEGIN:VEVENT
UID:2c4a0a70-56cf-48a9-9205-c42ad2274624@www.walkersanderson.com
DTSTAMP:20260421T204803Z
DTSTART:20260427T153000Z
DTEND:20260427T163000Z
SUMMARY:Visitation
DESCRIPTION:
URL:https://www.walkersanderson.com/obituaries/rex-giles
LOCATION: 2225 West 620 North  Provo UT 84601
GEO:40.2422786;-111.6976411
END:VEVENT
END:VCALENDAR