BEGIN:VCALENDAR
VERSION:2.0
PRODID:-//Tukios.com/
BEGIN:VEVENT
UID:93540a28-5075-4394-b87c-e4f340cae60d@www.walkersanderson.com
DTSTAMP:20260421T205043Z
DTSTART:20260427T170000Z
DTEND:20260427T180000Z
SUMMARY:Funeral Service
DESCRIPTION:
URL:https://www.walkersanderson.com/obituaries/rex-giles
LOCATION: 2225 West 620 North  Provo UT 84601
GEO:40.2422786;-111.6976411
END:VEVENT
END:VCALENDAR